BEGIN:VCALENDAR
VERSION:2.0
PRODID:-//Adapei des Landes - ECPv6.15.20//NONSGML v1.0//EN
CALSCALE:GREGORIAN
METHOD:PUBLISH
X-WR-CALNAME:Adapei des Landes
X-ORIGINAL-URL:https://www.adapeideslandes.fr
X-WR-CALDESC:Évènements pour Adapei des Landes
REFRESH-INTERVAL;VALUE=DURATION:PT1H
X-Robots-Tag:noindex
X-PUBLISHED-TTL:PT1H
BEGIN:VTIMEZONE
TZID:Europe/Paris
BEGIN:DAYLIGHT
TZOFFSETFROM:+0100
TZOFFSETTO:+0200
TZNAME:CEST
DTSTART:20180325T010000
END:DAYLIGHT
BEGIN:STANDARD
TZOFFSETFROM:+0200
TZOFFSETTO:+0100
TZNAME:CET
DTSTART:20181028T010000
END:STANDARD
BEGIN:DAYLIGHT
TZOFFSETFROM:+0100
TZOFFSETTO:+0200
TZNAME:CEST
DTSTART:20190331T010000
END:DAYLIGHT
BEGIN:STANDARD
TZOFFSETFROM:+0200
TZOFFSETTO:+0100
TZNAME:CET
DTSTART:20191027T010000
END:STANDARD
BEGIN:DAYLIGHT
TZOFFSETFROM:+0100
TZOFFSETTO:+0200
TZNAME:CEST
DTSTART:20200329T010000
END:DAYLIGHT
BEGIN:STANDARD
TZOFFSETFROM:+0200
TZOFFSETTO:+0100
TZNAME:CET
DTSTART:20201025T010000
END:STANDARD
END:VTIMEZONE
BEGIN:VEVENT
DTSTART;TZID=Europe/Paris:20191214T100000
DTEND;TZID=Europe/Paris:20191214T180000
DTSTAMP:20260423T145909
CREATED:20191129T094941Z
LAST-MODIFIED:20191129T095147Z
UID:1770-1576317600-1576346400@www.adapeideslandes.fr
SUMMARY:Marchés de Noël 2019 - Saint Pierre du Mont -
DESCRIPTION:
URL:https://www.adapeideslandes.fr/evenement/marches-de-noel-2019/
LOCATION:Saint Pierre du Mont\, Jardin Public
END:VEVENT
END:VCALENDAR